BEGIN:VCALENDAR
VERSION:2.0
PRODID:-//Schützenhof Jaderberg - ECPv6.15.20//NONSGML v1.0//EN
CALSCALE:GREGORIAN
METHOD:PUBLISH
X-WR-CALNAME:Schützenhof Jaderberg
X-ORIGINAL-URL:https://schuetzenhof-jaderberg.de
X-WR-CALDESC:Veranstaltungen für Schützenhof Jaderberg
REFRESH-INTERVAL;VALUE=DURATION:PT1H
X-Robots-Tag:noindex
X-PUBLISHED-TTL:PT1H
BEGIN:VTIMEZONE
TZID:Europe/Berlin
BEGIN:DAYLIGHT
TZOFFSETFROM:+0100
TZOFFSETTO:+0200
TZNAME:CEST
DTSTART:20240331T010000
END:DAYLIGHT
BEGIN:STANDARD
TZOFFSETFROM:+0200
TZOFFSETTO:+0100
TZNAME:CET
DTSTART:20241027T010000
END:STANDARD
BEGIN:DAYLIGHT
TZOFFSETFROM:+0100
TZOFFSETTO:+0200
TZNAME:CEST
DTSTART:20250330T010000
END:DAYLIGHT
BEGIN:STANDARD
TZOFFSETFROM:+0200
TZOFFSETTO:+0100
TZNAME:CET
DTSTART:20251026T010000
END:STANDARD
BEGIN:DAYLIGHT
TZOFFSETFROM:+0100
TZOFFSETTO:+0200
TZNAME:CEST
DTSTART:20260329T010000
END:DAYLIGHT
BEGIN:STANDARD
TZOFFSETFROM:+0200
TZOFFSETTO:+0100
TZNAME:CET
DTSTART:20261025T010000
END:STANDARD
END:VTIMEZONE
BEGIN:VEVENT
DTSTART;TZID=Europe/Berlin:20251107T183000
DTEND;TZID=Europe/Berlin:20251107T203000
DTSTAMP:20260421T131003
CREATED:20251005T085519Z
LAST-MODIFIED:20251005T085519Z
UID:894-1762540200-1762547400@schuetzenhof-jaderberg.de
SUMMARY:Burger\, Ribs und mehr
DESCRIPTION:Rustikales Buffet mit verschiedenen Burgern\, Ribs und anderren Leckereien.
URL:https://schuetzenhof-jaderberg.de/event/burger-ribs-und-mehr
END:VEVENT
BEGIN:VEVENT
DTSTART;TZID=Europe/Berlin:20251129T190000
DTEND;TZID=Europe/Berlin:20251129T230000
DTSTAMP:20260421T131003
CREATED:20240601T134606Z
LAST-MODIFIED:20251121T144128Z
UID:727-1764442800-1764457200@schuetzenhof-jaderberg.de
SUMMARY:Schnitzel & Schnauze
DESCRIPTION:Comedy mit Stefan Rodefeld !! \nGenießen Sie Schnitzelvariationen vom Buffet und riskieren Sie mit Luigi und Ewald einen Angriff auf Ihre Lachmuskeln! \nTickets im Schützenhof Jaderberg\, im Blumen-Atelier Oltmanns oder online bei eventim.de \n 
URL:https://schuetzenhof-jaderberg.de/event/schnitzel-schnauze
END:VEVENT
END:VCALENDAR