BEGIN:VCALENDAR
VERSION:2.0
PRODID:-//Schützenhof Jaderberg - ECPv6.15.20//NONSGML v1.0//EN
CALSCALE:GREGORIAN
METHOD:PUBLISH
X-ORIGINAL-URL:https://schuetzenhof-jaderberg.de
X-WR-CALDESC:Veranstaltungen für Schützenhof Jaderberg
REFRESH-INTERVAL;VALUE=DURATION:PT1H
X-Robots-Tag:noindex
X-PUBLISHED-TTL:PT1H
BEGIN:VTIMEZONE
TZID:Europe/Berlin
BEGIN:DAYLIGHT
TZOFFSETFROM:+0100
TZOFFSETTO:+0200
TZNAME:CEST
DTSTART:20240331T010000
END:DAYLIGHT
BEGIN:STANDARD
TZOFFSETFROM:+0200
TZOFFSETTO:+0100
TZNAME:CET
DTSTART:20241027T010000
END:STANDARD
BEGIN:DAYLIGHT
TZOFFSETFROM:+0100
TZOFFSETTO:+0200
TZNAME:CEST
DTSTART:20250330T010000
END:DAYLIGHT
BEGIN:STANDARD
TZOFFSETFROM:+0200
TZOFFSETTO:+0100
TZNAME:CET
DTSTART:20251026T010000
END:STANDARD
BEGIN:DAYLIGHT
TZOFFSETFROM:+0100
TZOFFSETTO:+0200
TZNAME:CEST
DTSTART:20260329T010000
END:DAYLIGHT
BEGIN:STANDARD
TZOFFSETFROM:+0200
TZOFFSETTO:+0100
TZNAME:CET
DTSTART:20261025T010000
END:STANDARD
END:VTIMEZONE
BEGIN:VEVENT
DTSTART;TZID=Europe/Berlin:20250417T183000
DTEND;TZID=Europe/Berlin:20250417T210000
DTSTAMP:20260421T232528
CREATED:20250209T192724Z
LAST-MODIFIED:20250418T163905Z
UID:829-1744914600-1744923600@schuetzenhof-jaderberg.de
SUMMARY:Burger & Ribs
DESCRIPTION:Auf euch warten leckere Spare Ribs\, Pulled Pork\, und verschiedene Burgervariationen mit und ohne Fleisch. \nZudem gibt es noch eine reichhaltige Auswahl an Beilagen und Soßen/Dips
URL:https://schuetzenhof-jaderberg.de/event/burger-ribs-2
CATEGORIES:Buffet
END:VEVENT
END:VCALENDAR