BEGIN:VCALENDAR
VERSION:2.0
PRODID:-//Schützenhof Jaderberg - ECPv6.15.20//NONSGML v1.0//EN
CALSCALE:GREGORIAN
METHOD:PUBLISH
X-WR-CALNAME:Schützenhof Jaderberg
X-ORIGINAL-URL:https://schuetzenhof-jaderberg.de
X-WR-CALDESC:Veranstaltungen für Schützenhof Jaderberg
REFRESH-INTERVAL;VALUE=DURATION:PT1H
X-Robots-Tag:noindex
X-PUBLISHED-TTL:PT1H
BEGIN:VTIMEZONE
TZID:Europe/Berlin
BEGIN:DAYLIGHT
TZOFFSETFROM:+0100
TZOFFSETTO:+0200
TZNAME:CEST
DTSTART:20230326T010000
END:DAYLIGHT
BEGIN:STANDARD
TZOFFSETFROM:+0200
TZOFFSETTO:+0100
TZNAME:CET
DTSTART:20231029T010000
END:STANDARD
BEGIN:DAYLIGHT
TZOFFSETFROM:+0100
TZOFFSETTO:+0200
TZNAME:CEST
DTSTART:20240331T010000
END:DAYLIGHT
BEGIN:STANDARD
TZOFFSETFROM:+0200
TZOFFSETTO:+0100
TZNAME:CET
DTSTART:20241027T010000
END:STANDARD
BEGIN:DAYLIGHT
TZOFFSETFROM:+0100
TZOFFSETTO:+0200
TZNAME:CEST
DTSTART:20250330T010000
END:DAYLIGHT
BEGIN:STANDARD
TZOFFSETFROM:+0200
TZOFFSETTO:+0100
TZNAME:CET
DTSTART:20251026T010000
END:STANDARD
END:VTIMEZONE
BEGIN:VEVENT
DTSTART;TZID=Europe/Berlin:20241101T183000
DTEND;TZID=Europe/Berlin:20241101T183000
DTSTAMP:20260422T070637
CREATED:20240715T084219Z
LAST-MODIFIED:20250418T171343Z
UID:750-1730485800-1730485800@schuetzenhof-jaderberg.de
SUMMARY:Burger & Ribs
DESCRIPTION:Es gibt verschiedene Burgervaritionen\, leckere Rippchen\, Pulled Pork und Salate
URL:https://schuetzenhof-jaderberg.de/event/burger-ribs
CATEGORIES:Buffet
END:VEVENT
BEGIN:VEVENT
DTSTART;TZID=Europe/Berlin:20241110T093000
DTEND;TZID=Europe/Berlin:20241110T113000
DTSTAMP:20260422T070637
CREATED:20240730T094824Z
LAST-MODIFIED:20250418T171330Z
UID:760-1731231000-1731238200@schuetzenhof-jaderberg.de
SUMMARY:Frühstücksbuffet
DESCRIPTION:
URL:https://schuetzenhof-jaderberg.de/event/fruehstuecksbuffet-9
CATEGORIES:Buffet
END:VEVENT
END:VCALENDAR