BEGIN:VCALENDAR
VERSION:2.0
PRODID:-//Schützenhof Jaderberg - ECPv6.15.20//NONSGML v1.0//EN
CALSCALE:GREGORIAN
METHOD:PUBLISH
X-WR-CALNAME:Schützenhof Jaderberg
X-ORIGINAL-URL:https://schuetzenhof-jaderberg.de
X-WR-CALDESC:Veranstaltungen für Schützenhof Jaderberg
REFRESH-INTERVAL;VALUE=DURATION:PT1H
X-Robots-Tag:noindex
X-PUBLISHED-TTL:PT1H
BEGIN:VTIMEZONE
TZID:Europe/Berlin
BEGIN:DAYLIGHT
TZOFFSETFROM:+0100
TZOFFSETTO:+0200
TZNAME:CEST
DTSTART:20230326T010000
END:DAYLIGHT
BEGIN:STANDARD
TZOFFSETFROM:+0200
TZOFFSETTO:+0100
TZNAME:CET
DTSTART:20231029T010000
END:STANDARD
BEGIN:DAYLIGHT
TZOFFSETFROM:+0100
TZOFFSETTO:+0200
TZNAME:CEST
DTSTART:20240331T010000
END:DAYLIGHT
BEGIN:STANDARD
TZOFFSETFROM:+0200
TZOFFSETTO:+0100
TZNAME:CET
DTSTART:20241027T010000
END:STANDARD
BEGIN:DAYLIGHT
TZOFFSETFROM:+0100
TZOFFSETTO:+0200
TZNAME:CEST
DTSTART:20250330T010000
END:DAYLIGHT
BEGIN:STANDARD
TZOFFSETFROM:+0200
TZOFFSETTO:+0100
TZNAME:CET
DTSTART:20251026T010000
END:STANDARD
END:VTIMEZONE
BEGIN:VEVENT
DTSTART;TZID=Europe/Berlin:20240503T183000
DTEND;TZID=Europe/Berlin:20240503T203000
DTSTAMP:20260422T154433
CREATED:20240311T103742Z
LAST-MODIFIED:20240311T111434Z
UID:690-1714761000-1714768200@schuetzenhof-jaderberg.de
SUMMARY:Spargelbuffet
DESCRIPTION:Viele Leckereien rund um den Spargel.
URL:https://schuetzenhof-jaderberg.de/event/spargelbuffet-4
END:VEVENT
BEGIN:VEVENT
DTSTART;TZID=Europe/Berlin:20240505T120000
DTEND;TZID=Europe/Berlin:20240505T140000
DTSTAMP:20260422T154433
CREATED:20240311T103727Z
LAST-MODIFIED:20240311T103727Z
UID:693-1714910400-1714917600@schuetzenhof-jaderberg.de
SUMMARY:Spargelbuffet
DESCRIPTION:Viele Leckereien rund um den Spargel
URL:https://schuetzenhof-jaderberg.de/event/spargelbuffet-3
END:VEVENT
BEGIN:VEVENT
DTSTART;TZID=Europe/Berlin:20240509T093000
DTEND;TZID=Europe/Berlin:20240509T113000
DTSTAMP:20260422T154433
CREATED:20240413T111939Z
LAST-MODIFIED:20240413T111939Z
UID:719-1715247000-1715254200@schuetzenhof-jaderberg.de
SUMMARY:Frühstücksbuffet
DESCRIPTION:
URL:https://schuetzenhof-jaderberg.de/event/fruehstuecksbuffet-4
CATEGORIES:Buffet
END:VEVENT
BEGIN:VEVENT
DTSTART;TZID=Europe/Berlin:20240526T120000
DTEND;TZID=Europe/Berlin:20240526T140000
DTSTAMP:20260422T154433
CREATED:20240311T103717Z
LAST-MODIFIED:20240311T103717Z
UID:697-1716724800-1716732000@schuetzenhof-jaderberg.de
SUMMARY:Spargelbuffet
DESCRIPTION:Viele Leckereien rund um den Spargel
URL:https://schuetzenhof-jaderberg.de/event/spargelbuffet-2
END:VEVENT
END:VCALENDAR